BEGIN:VCALENDAR
VERSION:2.0
PRODID:-//Impres Technology Solutions, Inc. - ECPv6.3.2//NONSGML v1.0//EN
CALSCALE:GREGORIAN
METHOD:PUBLISH
X-WR-CALNAME:Impres Technology Solutions, Inc.
X-ORIGINAL-URL:https://www.imprestechnology.com
X-WR-CALDESC:Events for Impres Technology Solutions, Inc.
REFRESH-INTERVAL;VALUE=DURATION:PT1H
X-Robots-Tag:noindex
X-PUBLISHED-TTL:PT1H
BEGIN:VTIMEZONE
TZID:UTC
BEGIN:STANDARD
TZOFFSETFROM:+0000
TZOFFSETTO:+0000
TZNAME:UTC
DTSTART:20240101T000000
END:STANDARD
END:VTIMEZONE
BEGIN:VEVENT
DTSTART;VALUE=DATE:20240219
DTEND;VALUE=DATE:20240223
DTSTAMP:20240219T100507
CREATED:20240105T002656Z
LAST-MODIFIED:20240105T002656Z
UID:8277-1708300800-1708646399@www.imprestechnology.com
SUMMARY:Rocky Mountain Cyberspace Symposium
DESCRIPTION:
URL:/event/rocky-mountain-cyberspace-symposium/
LOCATION:The Broadmoor\, Colorado Springs\, CO\, 1 Lake Avenue\, Colorado Springs\, 80906\, United States
ATTACH;FMTTYPE=image/jpeg:/wp-content/uploads/2024/01/cyberspace300x200.jpg
END:VEVENT
END:VCALENDAR